BEGIN:VCALENDAR
VERSION:2.0
PRODID:spatie/icalendar-generator
DESCRIPTION:Veranstaltungen von Lebenshilfe
X-WR-CALDESC:Veranstaltungen von Lebenshilfe
REFRESH-INTERVAL;VALUE=DURATION:PT1440M
X-PUBLISHED-TTL:PT1440M
BEGIN:VTIMEZONE
TZID:Europe/Berlin
BEGIN:DAYLIGHT
DTSTART:20230326T020000Z
TZOFFSETFROM:+0100
TZOFFSETTO:+0200
END:DAYLIGHT
BEGIN:STANDARD
DTSTART:20231029T030000Z
TZOFFSETFROM:+0200
TZOFFSETTO:+0100
END:STANDARD
BEGIN:DAYLIGHT
DTSTART:20240331T020000Z
TZOFFSETFROM:+0100
TZOFFSETTO:+0200
END:DAYLIGHT
END:VTIMEZONE
BEGIN:VTIMEZONE
TZID:UTC
BEGIN:STANDARD
DTSTART:20250723T175128Z
TZOFFSETFROM:+0000
TZOFFSETTO:+0000
END:STANDARD
END:VTIMEZONE
BEGIN:VEVENT
UID:10-9
DTSTAMP:20260419T175128Z
SUMMARY:Musikalischer Grillabend (Interne Veranstaltung)
LOCATION:Gartenpavillon im Johannes-Schrey-Haus
ORGANIZER;CN=Robert Miltner:MAILTO:lebenshilfe-viernheim@t-online.de
DTSTART;TZID=Europe/Berlin:20230928T180000
DTEND;TZID=Europe/Berlin:20230928T200000
X-ALT-DESC;FMTTYPE=TEXT/HTML:Musikalischer Grillabend (interne Veranstaltun
 g) 28. September - 18:00 - 20:00 Donnerstag\, 28. September 2023 „Musi
 kalischer Grillabend“ im Garten! Für Bewohner der Wohnstätten / Johann
 es Schrey Haus und Schriesheimer Str. / Beginn 18:00 Uhr ( Interne Verans
 taltung) Wir möchten darauf hinweisen\, dass dies kein öffentliches Fest
  ist\, eingeladen sind ausschließlich Bewohner der o.g. Wohnstätten. Fü
 r Rückfragen stehen wir gerne&amp;hellip\;
CATEGORIES:General
URL;VALUE=URI:https://lebenshilfe-viernheim.de/lhv/mc-events/musikalischer-
 grillabend-interne-veranstaltung/?mc_id=10
END:VEVENT
END:VCALENDAR