BEGIN:VCALENDAR
VERSION:2.0
PRODID:spatie/icalendar-generator
DESCRIPTION:Veranstaltungen von Lebenshilfe
X-WR-CALDESC:Veranstaltungen von Lebenshilfe
REFRESH-INTERVAL;VALUE=DURATION:PT1440M
X-PUBLISHED-TTL:PT1440M
BEGIN:VTIMEZONE
TZID:Europe/Berlin
BEGIN:DAYLIGHT
DTSTART:20230326T020000Z
TZOFFSETFROM:+0100
TZOFFSETTO:+0200
END:DAYLIGHT
BEGIN:STANDARD
DTSTART:20231029T030000Z
TZOFFSETFROM:+0200
TZOFFSETTO:+0100
END:STANDARD
BEGIN:DAYLIGHT
DTSTART:20240331T020000Z
TZOFFSETFROM:+0100
TZOFFSETTO:+0200
END:DAYLIGHT
END:VTIMEZONE
BEGIN:VTIMEZONE
TZID:UTC
BEGIN:STANDARD
DTSTART:20250723T131918Z
TZOFFSETFROM:+0000
TZOFFSETTO:+0000
END:STANDARD
END:VTIMEZONE
BEGIN:VEVENT
UID:12-11
DTSTAMP:20260419T131918Z
SUMMARY:Zu Gast beim Zirkus Paletti in Mannheim
LOCATION:Mannheim
ORGANIZER;CN=Robert Miltner:MAILTO:lebenshilfe-viernheim@t-online.de
DTSTART;TZID=Europe/Berlin:20231118T160000
DTEND;TZID=Europe/Berlin:20231118T181500
X-ALT-DESC;FMTTYPE=TEXT/HTML:Die Lebenshilfe lädt die Mitglieder des Johan
 nes Schrey Haus und der Schriesheimer Straße\, ganz herzlich ein!  Zu Ga
 st im Zirkus Paletti in Mannheim ! Samstag\, 18. November Beginn 16:00 Uhr
  Abfahrt 15:00 Uhr Johannes Schrey Haus  Wir fahren gemeinsam – Es best
 eht begrenzte Mitfahrgelegenheit
CATEGORIES:General
URL;VALUE=URI:https://lebenshilfe-viernheim.de/lhv/mc-events/zu-gast-beim-z
 irkus-paletti-in-mannheim/?mc_id=12
END:VEVENT
END:VCALENDAR