BEGIN:VCALENDAR
VERSION:2.0
PRODID:spatie/icalendar-generator
DESCRIPTION:Veranstaltungen von Lebenshilfe
X-WR-CALDESC:Veranstaltungen von Lebenshilfe
REFRESH-INTERVAL;VALUE=DURATION:PT1440M
X-PUBLISHED-TTL:PT1440M
BEGIN:VTIMEZONE
TZID:Europe/Berlin
BEGIN:DAYLIGHT
DTSTART:20230326T020000Z
TZOFFSETFROM:+0100
TZOFFSETTO:+0200
END:DAYLIGHT
BEGIN:STANDARD
DTSTART:20231029T030000Z
TZOFFSETFROM:+0200
TZOFFSETTO:+0100
END:STANDARD
BEGIN:DAYLIGHT
DTSTART:20240331T020000Z
TZOFFSETFROM:+0100
TZOFFSETTO:+0200
END:DAYLIGHT
END:VTIMEZONE
BEGIN:VTIMEZONE
TZID:UTC
BEGIN:STANDARD
DTSTART:20250723T131630Z
TZOFFSETFROM:+0000
TZOFFSETTO:+0000
END:STANDARD
END:VTIMEZONE
BEGIN:VEVENT
UID:6-6
DTSTAMP:20260419T131630Z
SUMMARY:Informationsveranstaltung Vorstellung Caritas Betreuungsverein / Be
 treuungsrecht
LOCATION:Baugenossenschaft Viernheim eG Sitzungsraum\,  Mozartstraße 15  V
 iernheim  68519
ORGANIZER;CN=Robert Miltner:MAILTO:lebenshilfe-viernheim@t-online.de
DTSTART;TZID=Europe/Berlin:20231121T183000
DTEND;TZID=Europe/Berlin:20231121T200000
X-ALT-DESC;FMTTYPE=TEXT/HTML:Vorstellung Caritas Betreuungsverein Kreis Ber
 gstraße und Information über die Reform Betreuungsrecht 2023 Dienstag\, 
 21. November – 18:30 Uhr Baugenossenschaft Viernheim eG Sitzungsraum\, V
 iernheim\, Mozartstraße 15 Referentin: Maritta Eckert-Geiß\, Caritas Kre
 is Bergstraße Der Betreuungsverein der Caritas Kreis Bergstraße stellt s
 ich\, seine Aufgaben und Angebote vor. Darüber hinaus wird die zum 01.01.
 2023 in Kraft getretenen Betreuungsrechtsreform besprochen.&amp;hellip\;
CATEGORIES:General
URL;VALUE=URI:https://lebenshilfe-viernheim.de/lhv/mc-events/informationsve
 ranstaltung-vorstellung-caritas-betreuungsverein-betreuungsrecht/?mc_id=6
END:VEVENT
END:VCALENDAR