BEGIN:VCALENDAR
VERSION:2.0
PRODID:spatie/icalendar-generator
DESCRIPTION:Veranstaltungen von Lebenshilfe
X-WR-CALDESC:Veranstaltungen von Lebenshilfe
REFRESH-INTERVAL;VALUE=DURATION:PT1440M
X-PUBLISHED-TTL:PT1440M
BEGIN:VTIMEZONE
TZID:Europe/Berlin
BEGIN:DAYLIGHT
DTSTART:20230326T020000Z
TZOFFSETFROM:+0100
TZOFFSETTO:+0200
END:DAYLIGHT
BEGIN:STANDARD
DTSTART:20231029T030000Z
TZOFFSETFROM:+0200
TZOFFSETTO:+0100
END:STANDARD
BEGIN:DAYLIGHT
DTSTART:20240331T020000Z
TZOFFSETFROM:+0100
TZOFFSETTO:+0200
END:DAYLIGHT
END:VTIMEZONE
BEGIN:VTIMEZONE
TZID:UTC
BEGIN:STANDARD
DTSTART:20250723T162713Z
TZOFFSETFROM:+0000
TZOFFSETTO:+0000
END:STANDARD
END:VTIMEZONE
BEGIN:VEVENT
UID:13-12
DTSTAMP:20260419T162713Z
SUMMARY:Foto-Shooting im Johannes Schrey Haus
LOCATION:
ORGANIZER;CN=Robert Miltner:MAILTO:lebenshilfe-viernheim@t-online.de
DTSTART;TZID=Europe/Berlin:20231120T100000
DTEND;TZID=Europe/Berlin:20231126T110000
X-ALT-DESC;FMTTYPE=TEXT/HTML:Foto-Shooting im Johannes Schrey Haus  Wir f
 ühren ein „Fotoshooting“ durch. Hierbei möchten wir sehr gerne von a
 llen BewohnerInnen schöne Einzel-Porträt-Fotos erstellen lassen. Diese s
 ollen dann ausschließlich in den Gruppen und Räumen der Wohnstätte Joha
 nnes Schrey Haus präsentiert und verwendet werden. Hierzu haben wir einen
  engagierten Hobbyfotografen gewonnen\, der uns bereits beim Maskenprojekt
  fotografisch begleitet hat.&amp;hellip\;
CATEGORIES:General
URL;VALUE=URI:https://lebenshilfe-viernheim.de/lhv/mc-events/foto-shooting-
 im-johannes-schrey-haus/?mc_id=13
END:VEVENT
END:VCALENDAR